Package: mBPCR Version: 1.46.0 Command: C:\Users\biocbuild\bbs-3.13-bioc\R\bin\R.exe CMD check --force-multiarch --install=check:mBPCR.install-out.txt --library=C:\Users\biocbuild\bbs-3.13-bioc\R\library --no-vignettes --timings mBPCR_1.46.0.tar.gz StartedAt: 2021-10-15 01:26:20 -0400 (Fri, 15 Oct 2021) EndedAt: 2021-10-15 01:31:13 -0400 (Fri, 15 Oct 2021) EllapsedTime: 293.4 seconds RetCode: 0 Status: OK CheckDir: mBPCR.Rcheck Warnings: 0