Package: mAPKL Version: 1.22.0 Command: C:\cygwin\bin\curl.exe -O http://155.52.207.165/BBS/3.13/bioc/src/contrib/mAPKL_1.22.0.tar.gz && rm -rf mAPKL.buildbin-libdir && mkdir mAPKL.buildbin-libdir && C:\Users\biocbuild\bbs-3.13-bioc\R\bin\R.exe CMD INSTALL --merge-multiarch --build --library=mAPKL.buildbin-libdir mAPKL_1.22.0.tar.gz && C:\Users\biocbuild\bbs-3.13-bioc\R\bin\R.exe CMD INSTALL mAPKL_1.22.0.zip && rm mAPKL_1.22.0.tar.gz mAPKL_1.22.0.zip StartedAt: 2021-10-14 08:39:22 -0400 (Thu, 14 Oct 2021) EndedAt: 2021-10-14 08:40:46 -0400 (Thu, 14 Oct 2021) EllapsedTime: 83.8 seconds RetCode: 0 Status: OK