Package: mAPKL Version: 1.22.0 Command: chmod a+r mAPKL -R && C:\Users\biocbuild\bbs-3.13-bioc\R\bin\R.exe CMD build --keep-empty-dirs --no-resave-data mAPKL StartedAt: 2021-10-14 15:21:38 -0400 (Thu, 14 Oct 2021) EndedAt: 2021-10-14 15:24:01 -0400 (Thu, 14 Oct 2021) EllapsedTime: 142.2 seconds RetCode: 0 Status: OK PackageFile: mAPKL_1.22.0.tar.gz PackageFileSize: 1.943 MiB