Package: mAPKL Version: 1.22.0 Command: /Library/Frameworks/R.framework/Versions/Current/Resources/bin/R CMD check --install=check:mAPKL.install-out.txt --library=/Library/Frameworks/R.framework/Versions/Current/Resources/library --no-vignettes --timings mAPKL_1.22.0.tar.gz StartedAt: 2021-10-14 20:38:57 -0400 (Thu, 14 Oct 2021) EndedAt: 2021-10-14 20:52:29 -0400 (Thu, 14 Oct 2021) EllapsedTime: 812.3 seconds RetCode: 0 Status: OK CheckDir: mAPKL.Rcheck Warnings: 0