Package: mAPKL Version: 1.22.0 Command: /Library/Frameworks/R.framework/Versions/Current/Resources/bin/R CMD build --keep-empty-dirs --no-resave-data mAPKL StartedAt: 2021-10-14 12:58:16 -0400 (Thu, 14 Oct 2021) EndedAt: 2021-10-14 13:01:09 -0400 (Thu, 14 Oct 2021) EllapsedTime: 172.3 seconds RetCode: 0 Status: OK PackageFile: mAPKL_1.22.0.tar.gz PackageFileSize: 1.941 MiB