Package: mAPKL Version: 1.22.0 Command: rm -rf mAPKL.buildbin-libdir && mkdir mAPKL.buildbin-libdir && /Users/biocbuild/BBS/utils/build-universal.sh mAPKL_1.22.0.tar.gz /Library/Frameworks/R.framework/Versions/Current/Resources/bin/R mAPKL.buildbin-libdir StartedAt: 2021-10-15 02:57:39 -0400 (Fri, 15 Oct 2021) EndedAt: 2021-10-15 02:58:38 -0400 (Fri, 15 Oct 2021) EllapsedTime: 59.2 seconds RetCode: 0 Status: OK PackageFile: mAPKL_1.22.0.tgz PackageFileSize: 1.792 MiB