Package: logicFS Version: 2.12.0 Command: chmod a+r logicFS -R && C:\Users\biocbuild\bbs-3.13-bioc\R\bin\R.exe CMD build --keep-empty-dirs --no-resave-data logicFS StartedAt: 2021-10-14 15:16:42 -0400 (Thu, 14 Oct 2021) EndedAt: 2021-10-14 15:17:24 -0400 (Thu, 14 Oct 2021) EllapsedTime: 41.4 seconds RetCode: 0 Status: OK PackageFile: logicFS_2.12.0.tar.gz PackageFileSize: 194.3 KiB