Package: lmdme Version: 1.34.0 Command: C:\Users\biocbuild\bbs-3.13-bioc\R\bin\R.exe CMD check --force-multiarch --install=check:lmdme.install-out.txt --library=C:\Users\biocbuild\bbs-3.13-bioc\R\library --no-vignettes --timings lmdme_1.34.0.tar.gz StartedAt: 2021-10-15 01:10:07 -0400 (Fri, 15 Oct 2021) EndedAt: 2021-10-15 01:11:44 -0400 (Fri, 15 Oct 2021) EllapsedTime: 97.1 seconds RetCode: 0 Status: WARNINGS CheckDir: lmdme.Rcheck Warnings: 1