Package: lmdme Version: 1.34.0 Command: /Library/Frameworks/R.framework/Versions/Current/Resources/bin/R CMD INSTALL lmdme StartedAt: 2021-10-14 08:59:03 -0400 (Thu, 14 Oct 2021) EndedAt: 2021-10-14 08:59:51 -0400 (Thu, 14 Oct 2021) EllapsedTime: 47.8 seconds RetCode: 0 Status: OK