Package: lisaClust Version: 1.0.0 Command: /Library/Frameworks/R.framework/Versions/Current/Resources/bin/R CMD build --keep-empty-dirs --no-resave-data lisaClust StartedAt: 2021-10-14 12:54:02 -0400 (Thu, 14 Oct 2021) EndedAt: 2021-10-14 12:55:54 -0400 (Thu, 14 Oct 2021) EllapsedTime: 111.9 seconds RetCode: 0 Status: OK PackageFile: lisaClust_1.0.0.tar.gz PackageFileSize: 1.796 MiB