Package: lionessR Version: 1.6.0 Command: C:\Users\biocbuild\bbs-3.13-bioc\R\bin\R.exe CMD check --force-multiarch --install=check:lionessR.install-out.txt --library=C:\Users\biocbuild\bbs-3.13-bioc\R\library --no-vignettes --timings lionessR_1.6.0.tar.gz StartedAt: 2021-10-15 01:09:26 -0400 (Fri, 15 Oct 2021) EndedAt: 2021-10-15 01:10:12 -0400 (Fri, 15 Oct 2021) EllapsedTime: 46.5 seconds RetCode: 0 Status: OK CheckDir: lionessR.Rcheck Warnings: 0