Package: limma Version: 3.48.3 Command: /Library/Frameworks/R.framework/Versions/Current/Resources/bin/R CMD INSTALL limma StartedAt: 2021-10-14 08:08:24 -0400 (Thu, 14 Oct 2021) EndedAt: 2021-10-14 08:09:04 -0400 (Thu, 14 Oct 2021) EllapsedTime: 39.7 seconds RetCode: 0 Status: OK