Package: limma Version: 3.48.3 Command: /Library/Frameworks/R.framework/Versions/Current/Resources/bin/R CMD build --keep-empty-dirs --no-resave-data limma StartedAt: 2021-10-14 12:52:56 -0400 (Thu, 14 Oct 2021) EndedAt: 2021-10-14 12:53:24 -0400 (Thu, 14 Oct 2021) EllapsedTime: 27.4 seconds RetCode: 0 Status: OK PackageFile: limma_3.48.3.tar.gz PackageFileSize: 1.484 MiB