Package: limma Version: 3.48.3 Command: rm -rf limma.buildbin-libdir && mkdir limma.buildbin-libdir && /Users/biocbuild/BBS/utils/build-universal.sh limma_3.48.3.tar.gz /Library/Frameworks/R.framework/Versions/Current/Resources/bin/R limma.buildbin-libdir StartedAt: 2021-10-15 02:53:44 -0400 (Fri, 15 Oct 2021) EndedAt: 2021-10-15 02:54:54 -0400 (Fri, 15 Oct 2021) EllapsedTime: 70.5 seconds RetCode: 0 Status: OK PackageFile: limma_3.48.3.tgz PackageFileSize: 2.695 MiB