Package: levi Version: 1.10.0 Command: /home/biocbuild/bbs-3.13-bioc/R/bin/R CMD build --keep-empty-dirs --no-resave-data levi StartedAt: 2021-10-14 07:35:31 -0400 (Thu, 14 Oct 2021) EndedAt: 2021-10-14 07:38:03 -0400 (Thu, 14 Oct 2021) EllapsedTime: 152.0 seconds RetCode: 0 Status: OK PackageFile: levi_1.10.0.tar.gz PackageFileSize: 2.505 MiB