Package: les Version: 1.42.0 Command: C:\Users\biocbuild\bbs-3.13-bioc\R\bin\R.exe CMD check --force-multiarch --install=check:les.install-out.txt --library=C:\Users\biocbuild\bbs-3.13-bioc\R\library --no-vignettes --timings les_1.42.0.tar.gz StartedAt: 2021-10-15 01:06:53 -0400 (Fri, 15 Oct 2021) EndedAt: 2021-10-15 01:08:23 -0400 (Fri, 15 Oct 2021) EllapsedTime: 89.8 seconds RetCode: 0 Status: OK CheckDir: les.Rcheck Warnings: 0