Package: lefser Version: 1.2.0 Command: /home/biocbuild/bbs-3.13-bioc/R/bin/R CMD check --install=check:lefser.install-out.txt --library=/home/biocbuild/bbs-3.13-bioc/R/library --no-vignettes --timings lefser_1.2.0.tar.gz StartedAt: 2021-10-14 10:22:05 -0400 (Thu, 14 Oct 2021) EndedAt: 2021-10-14 10:24:53 -0400 (Thu, 14 Oct 2021) EllapsedTime: 168.2 seconds RetCode: 0 Status: OK CheckDir: lefser.Rcheck Warnings: 0