Package: ldblock Version: 1.22.1 Command: C:\cygwin\bin\curl.exe -O http://155.52.207.165/BBS/3.13/bioc/src/contrib/ldblock_1.22.1.tar.gz && rm -rf ldblock.buildbin-libdir && mkdir ldblock.buildbin-libdir && C:\Users\biocbuild\bbs-3.13-bioc\R\bin\R.exe CMD INSTALL --merge-multiarch --build --library=ldblock.buildbin-libdir ldblock_1.22.1.tar.gz && C:\Users\biocbuild\bbs-3.13-bioc\R\bin\R.exe CMD INSTALL ldblock_1.22.1.zip && rm ldblock_1.22.1.tar.gz ldblock_1.22.1.zip StartedAt: 2021-10-14 10:36:32 -0400 (Thu, 14 Oct 2021) EndedAt: 2021-10-14 10:38:37 -0400 (Thu, 14 Oct 2021) EllapsedTime: 124.5 seconds RetCode: 0 Status: OK