Package: ldblock Version: 1.22.1 Command: rm -rf ldblock.buildbin-libdir && mkdir ldblock.buildbin-libdir && C:\Users\biocbuild\bbs-3.13-bioc\R\bin\R.exe CMD INSTALL --merge-multiarch --build --library=ldblock.buildbin-libdir ldblock_1.22.1.tar.gz StartedAt: 2021-10-15 10:03:30 -0400 (Fri, 15 Oct 2021) EndedAt: 2021-10-15 10:04:54 -0400 (Fri, 15 Oct 2021) EllapsedTime: 83.5 seconds RetCode: 0 Status: OK PackageFile: ldblock_1.22.1.zip PackageFileSize: 40.36 MiB