Package: karyoploteR Version: 1.18.0 Command: /home/biocbuild/bbs-3.13-bioc/R/bin/R CMD INSTALL karyoploteR StartedAt: 2021-10-14 06:30:43 -0400 (Thu, 14 Oct 2021) EndedAt: 2021-10-14 06:31:25 -0400 (Thu, 14 Oct 2021) EllapsedTime: 41.8 seconds RetCode: 0 Status: OK