Package: ivygapSE Version: 1.14.1 Command: /home/biocbuild/bbs-3.13-bioc/R/bin/R CMD check --install=check:ivygapSE.install-out.txt --library=/home/biocbuild/bbs-3.13-bioc/R/library --no-vignettes --timings ivygapSE_1.14.1.tar.gz StartedAt: 2021-10-14 10:20:53 -0400 (Thu, 14 Oct 2021) EndedAt: 2021-10-14 10:23:41 -0400 (Thu, 14 Oct 2021) EllapsedTime: 168.6 seconds RetCode: 0 Status: OK CheckDir: ivygapSE.Rcheck Warnings: 0