Package: ivygapSE Version: 1.14.1 Command: /Library/Frameworks/R.framework/Versions/Current/Resources/bin/R CMD build --keep-empty-dirs --no-resave-data ivygapSE StartedAt: 2021-10-14 12:49:45 -0400 (Thu, 14 Oct 2021) EndedAt: 2021-10-14 12:52:35 -0400 (Thu, 14 Oct 2021) EllapsedTime: 170.7 seconds RetCode: 0 Status: OK PackageFile: ivygapSE_1.14.1.tar.gz PackageFileSize: 15.3 MiB