Package: iterativeBMAsurv Version: 1.50.0 Command: chmod a+r iterativeBMAsurv -R && C:\Users\biocbuild\bbs-3.13-bioc\R\bin\R.exe CMD build --keep-empty-dirs --no-resave-data iterativeBMAsurv StartedAt: 2021-10-14 15:10:27 -0400 (Thu, 14 Oct 2021) EndedAt: 2021-10-14 15:11:10 -0400 (Thu, 14 Oct 2021) EllapsedTime: 43.0 seconds RetCode: 0 Status: OK PackageFile: iterativeBMAsurv_1.50.0.tar.gz PackageFileSize: 229.4 KiB