Package: iterativeBMA Version: 1.50.0 Command: C:\Users\biocbuild\bbs-3.13-bioc\R\bin\R.exe CMD check --force-multiarch --install=check:iterativeBMA.install-out.txt --library=C:\Users\biocbuild\bbs-3.13-bioc\R\library --no-vignettes --timings iterativeBMA_1.50.0.tar.gz StartedAt: 2021-10-15 00:58:25 -0400 (Fri, 15 Oct 2021) EndedAt: 2021-10-15 01:00:01 -0400 (Fri, 15 Oct 2021) EllapsedTime: 95.6 seconds RetCode: 0 Status: OK CheckDir: iterativeBMA.Rcheck Warnings: 0