Package: iterativeBMA Version: 1.50.0 Command: rm -rf iterativeBMA.buildbin-libdir && mkdir iterativeBMA.buildbin-libdir && C:\Users\biocbuild\bbs-3.13-bioc\R\bin\R.exe CMD INSTALL --merge-multiarch --build --library=iterativeBMA.buildbin-libdir iterativeBMA_1.50.0.tar.gz StartedAt: 2021-10-15 10:00:32 -0400 (Fri, 15 Oct 2021) EndedAt: 2021-10-15 10:02:04 -0400 (Fri, 15 Oct 2021) EllapsedTime: 91.8 seconds RetCode: 0 Status: OK PackageFile: iterativeBMA_1.50.0.zip PackageFileSize: 280.2 KiB