Package: iterativeBMA Version: 1.50.0 Command: /home/biocbuild/bbs-3.13-bioc/R/bin/R CMD check --install=check:iterativeBMA.install-out.txt --library=/home/biocbuild/bbs-3.13-bioc/R/library --no-vignettes --timings iterativeBMA_1.50.0.tar.gz StartedAt: 2021-10-14 10:20:16 -0400 (Thu, 14 Oct 2021) EndedAt: 2021-10-14 10:21:07 -0400 (Thu, 14 Oct 2021) EllapsedTime: 50.5 seconds RetCode: 0 Status: OK CheckDir: iterativeBMA.Rcheck Warnings: 0