Package: iterativeBMA Version: 1.50.0 Command: /home/biocbuild/bbs-3.13-bioc/R/bin/R CMD build --keep-empty-dirs --no-resave-data iterativeBMA StartedAt: 2021-10-14 07:34:08 -0400 (Thu, 14 Oct 2021) EndedAt: 2021-10-14 07:34:23 -0400 (Thu, 14 Oct 2021) EllapsedTime: 15.5 seconds RetCode: 0 Status: OK PackageFile: iterativeBMA_1.50.0.tar.gz PackageFileSize: 186.9 KiB