Package: iterClust Version: 1.14.0 Command: chmod a+r iterClust -R && C:\Users\biocbuild\bbs-3.13-bioc\R\bin\R.exe CMD build --keep-empty-dirs --no-resave-data iterClust StartedAt: 2021-10-14 15:10:36 -0400 (Thu, 14 Oct 2021) EndedAt: 2021-10-14 15:11:19 -0400 (Thu, 14 Oct 2021) EllapsedTime: 43.2 seconds RetCode: 0 Status: OK PackageFile: iterClust_1.14.0.tar.gz PackageFileSize: 136.9 KiB