Package: isomiRs Version: 1.20.0 Command: chmod a+r isomiRs -R && C:\Users\biocbuild\bbs-3.13-bioc\R\bin\R.exe CMD build --keep-empty-dirs --no-resave-data isomiRs StartedAt: 2021-10-14 15:09:53 -0400 (Thu, 14 Oct 2021) EndedAt: 2021-10-14 15:11:52 -0400 (Thu, 14 Oct 2021) EllapsedTime: 119.4 seconds RetCode: 0 Status: OK PackageFile: isomiRs_1.20.0.tar.gz PackageFileSize: 4.058 MiB