Package: isomiRs Version: 1.20.0 Command: /home/biocbuild/bbs-3.13-bioc/R/bin/R CMD INSTALL isomiRs StartedAt: 2021-10-14 06:23:05 -0400 (Thu, 14 Oct 2021) EndedAt: 2021-10-14 06:23:43 -0400 (Thu, 14 Oct 2021) EllapsedTime: 37.9 seconds RetCode: 0 Status: OK