Package: isomiRs Version: 1.20.0 Command: /Library/Frameworks/R.framework/Versions/Current/Resources/bin/R CMD build --keep-empty-dirs --no-resave-data isomiRs StartedAt: 2021-10-14 12:48:39 -0400 (Thu, 14 Oct 2021) EndedAt: 2021-10-14 12:50:45 -0400 (Thu, 14 Oct 2021) EllapsedTime: 125.8 seconds RetCode: 0 Status: OK PackageFile: isomiRs_1.20.0.tar.gz PackageFileSize: 4.268 MiB