Package: isomiRs Version: 1.20.0 Command: rm -rf isomiRs.buildbin-libdir && mkdir isomiRs.buildbin-libdir && /Users/biocbuild/BBS/utils/build-universal.sh isomiRs_1.20.0.tar.gz /Library/Frameworks/R.framework/Versions/Current/Resources/bin/R isomiRs.buildbin-libdir StartedAt: 2021-10-15 02:51:02 -0400 (Fri, 15 Oct 2021) EndedAt: 2021-10-15 02:52:08 -0400 (Fri, 15 Oct 2021) EllapsedTime: 65.7 seconds RetCode: 0 Status: OK PackageFile: isomiRs_1.20.0.tgz PackageFileSize: 2.244 MiB