git_url: https://git.bioconductor.org/packages/isobar git_branch: RELEASE_3_13 git_last_commit: 444a501 git_last_commit_date: 2021-05-19 11:50:32 -0400 (Wed, 19 May 2021) Package: isobar Version: 1.38.0 Maintainer: Florian P Breitwieser MaintainerEmail: florian.bw at gmail.com