Package: inveRsion Version: 1.40.0 Command: /home/biocbuild/bbs-3.13-bioc/R/bin/R CMD check --install=check:inveRsion.install-out.txt --library=/home/biocbuild/bbs-3.13-bioc/R/library --no-vignettes --timings inveRsion_1.40.0.tar.gz StartedAt: 2021-10-14 10:17:10 -0400 (Thu, 14 Oct 2021) EndedAt: 2021-10-14 10:18:18 -0400 (Thu, 14 Oct 2021) EllapsedTime: 68.4 seconds RetCode: 0 Status: WARNINGS CheckDir: inveRsion.Rcheck Warnings: 1