git_url: https://git.bioconductor.org/packages/interactiveDisplayBase git_branch: RELEASE_3_13 git_last_commit: 84be4b4 git_last_commit_date: 2021-05-19 12:06:29 -0400 (Wed, 19 May 2021) Package: interactiveDisplayBase Version: 1.30.0 Maintainer: Shawn Balcome MaintainerEmail: balc0022 at umn.edu