Package: interacCircos Version: 1.2.0 Command: rm -rf interacCircos.buildbin-libdir && mkdir interacCircos.buildbin-libdir && C:\Users\biocbuild\bbs-3.13-bioc\R\bin\R.exe CMD INSTALL --merge-multiarch --build --library=interacCircos.buildbin-libdir interacCircos_1.2.0.tar.gz StartedAt: 2021-10-15 09:56:35 -0400 (Fri, 15 Oct 2021) EndedAt: 2021-10-15 09:58:07 -0400 (Fri, 15 Oct 2021) EllapsedTime: 91.5 seconds RetCode: 0 Status: OK PackageFile: interacCircos_1.2.0.zip PackageFileSize: 899 KiB