Package: interacCircos Version: 1.2.0 Command: /Library/Frameworks/R.framework/Versions/Current/Resources/bin/R CMD build --keep-empty-dirs --no-resave-data interacCircos StartedAt: 2021-10-14 12:45:21 -0400 (Thu, 14 Oct 2021) EndedAt: 2021-10-14 12:45:37 -0400 (Thu, 14 Oct 2021) EllapsedTime: 16.0 seconds RetCode: 0 Status: OK PackageFile: interacCircos_1.2.0.tar.gz PackageFileSize: 710.2 KiB