Package: intansv Version: 1.32.0 Command: /home/biocbuild/bbs-3.13-bioc/R/bin/R CMD INSTALL intansv StartedAt: 2021-10-14 06:32:18 -0400 (Thu, 14 Oct 2021) EndedAt: 2021-10-14 06:33:02 -0400 (Thu, 14 Oct 2021) EllapsedTime: 43.3 seconds RetCode: 0 Status: OK