Package: intansv Version: 1.32.0 Command: /Library/Frameworks/R.framework/Versions/Current/Resources/bin/R CMD build --keep-empty-dirs --no-resave-data intansv StartedAt: 2021-10-14 12:45:16 -0400 (Thu, 14 Oct 2021) EndedAt: 2021-10-14 12:47:00 -0400 (Thu, 14 Oct 2021) EllapsedTime: 104.3 seconds RetCode: 0 Status: OK PackageFile: intansv_1.32.0.tar.gz PackageFileSize: 680.9 KiB