Package: impute Version: 1.66.0 Command: /home/biocbuild/bbs-3.13-bioc/R/bin/R CMD check --install=check:impute.install-out.txt --library=/home/biocbuild/bbs-3.13-bioc/R/library --no-vignettes --timings impute_1.66.0.tar.gz StartedAt: 2021-10-14 10:15:34 -0400 (Thu, 14 Oct 2021) EndedAt: 2021-10-14 10:15:50 -0400 (Thu, 14 Oct 2021) EllapsedTime: 15.5 seconds RetCode: 0 Status: OK CheckDir: impute.Rcheck Warnings: 0