Package: impute Version: 1.66.0 Command: /Library/Frameworks/R.framework/Versions/Current/Resources/bin/R CMD build --keep-empty-dirs --no-resave-data impute StartedAt: 2021-10-14 12:44:05 -0400 (Thu, 14 Oct 2021) EndedAt: 2021-10-14 12:44:06 -0400 (Thu, 14 Oct 2021) EllapsedTime: 1.0 seconds RetCode: 0 Status: OK PackageFile: impute_1.66.0.tar.gz PackageFileSize: 626.7 KiB