Package: igvR Version: 1.12.0 Command: C:\Users\biocbuild\bbs-3.13-bioc\R\bin\R.exe CMD check --force-multiarch --install=check:igvR.install-out.txt --library=C:\Users\biocbuild\bbs-3.13-bioc\R\library --no-vignettes --timings igvR_1.12.0.tar.gz StartedAt: 2021-10-15 00:37:44 -0400 (Fri, 15 Oct 2021) EndedAt: 2021-10-15 00:45:25 -0400 (Fri, 15 Oct 2021) EllapsedTime: 461.4 seconds RetCode: 0 Status: WARNINGS CheckDir: igvR.Rcheck Warnings: 3