Package: idpr Version: 1.2.0 Command: C:\cygwin\bin\curl.exe -O http://155.52.207.165/BBS/3.13/bioc/src/contrib/idpr_1.2.0.tar.gz && rm -rf idpr.buildbin-libdir && mkdir idpr.buildbin-libdir && C:\Users\biocbuild\bbs-3.13-bioc\R\bin\R.exe CMD INSTALL --merge-multiarch --build --library=idpr.buildbin-libdir idpr_1.2.0.tar.gz && C:\Users\biocbuild\bbs-3.13-bioc\R\bin\R.exe CMD INSTALL idpr_1.2.0.zip && rm idpr_1.2.0.tar.gz idpr_1.2.0.zip StartedAt: 2021-10-14 08:24:53 -0400 (Thu, 14 Oct 2021) EndedAt: 2021-10-14 08:26:02 -0400 (Thu, 14 Oct 2021) EllapsedTime: 69.0 seconds RetCode: 0 Status: OK