Package: idpr Version: 1.2.0 Command: /Library/Frameworks/R.framework/Versions/Current/Resources/bin/R CMD check --install=check:idpr.install-out.txt --library=/Library/Frameworks/R.framework/Versions/Current/Resources/library --no-vignettes --timings idpr_1.2.0.tar.gz StartedAt: 2021-10-14 20:08:11 -0400 (Thu, 14 Oct 2021) EndedAt: 2021-10-14 20:09:14 -0400 (Thu, 14 Oct 2021) EllapsedTime: 62.7 seconds RetCode: 0 Status: OK CheckDir: idpr.Rcheck Warnings: 0