Package: idpr Version: 1.2.0 Command: rm -rf idpr.buildbin-libdir && mkdir idpr.buildbin-libdir && /Users/biocbuild/BBS/utils/build-universal.sh idpr_1.2.0.tar.gz /Library/Frameworks/R.framework/Versions/Current/Resources/bin/R idpr.buildbin-libdir StartedAt: 2021-10-15 02:46:38 -0400 (Fri, 15 Oct 2021) EndedAt: 2021-10-15 02:47:49 -0400 (Fri, 15 Oct 2021) EllapsedTime: 70.6 seconds RetCode: 0 Status: OK PackageFile: idpr_1.2.0.tgz PackageFileSize: 2.405 MiB