Package: ideal Version: 1.16.1 Command: chmod a+r ideal -R && C:\Users\biocbuild\bbs-3.13-bioc\R\bin\R.exe CMD build --keep-empty-dirs --no-resave-data ideal StartedAt: 2021-10-14 15:00:13 -0400 (Thu, 14 Oct 2021) EndedAt: 2021-10-14 15:04:09 -0400 (Thu, 14 Oct 2021) EllapsedTime: 236.1 seconds RetCode: 0 Status: OK PackageFile: ideal_1.16.1.tar.gz PackageFileSize: 3.838 MiB