Package: ideal Version: 1.16.1 Command: /Library/Frameworks/R.framework/Versions/Current/Resources/bin/R CMD check --install=check:ideal.install-out.txt --library=/Library/Frameworks/R.framework/Versions/Current/Resources/library --no-vignettes --timings ideal_1.16.1.tar.gz StartedAt: 2021-10-14 20:07:22 -0400 (Thu, 14 Oct 2021) EndedAt: 2021-10-14 20:15:39 -0400 (Thu, 14 Oct 2021) EllapsedTime: 496.6 seconds RetCode: 0 Status: OK CheckDir: ideal.Rcheck Warnings: 0