Package: iSeq Version: 1.44.0 Command: /Library/Frameworks/R.framework/Versions/Current/Resources/bin/R CMD INSTALL iSeq StartedAt: 2021-10-14 08:05:32 -0400 (Thu, 14 Oct 2021) EndedAt: 2021-10-14 08:06:17 -0400 (Thu, 14 Oct 2021) EllapsedTime: 44.8 seconds RetCode: 0 Status: OK