Package: iSeq Version: 1.44.0 Command: rm -rf iSeq.buildbin-libdir && mkdir iSeq.buildbin-libdir && /Users/biocbuild/BBS/utils/build-universal.sh iSeq_1.44.0.tar.gz /Library/Frameworks/R.framework/Versions/Current/Resources/bin/R iSeq.buildbin-libdir StartedAt: 2021-10-15 02:50:24 -0400 (Fri, 15 Oct 2021) EndedAt: 2021-10-15 02:51:30 -0400 (Fri, 15 Oct 2021) EllapsedTime: 65.9 seconds RetCode: 0 Status: OK PackageFile: iSeq_1.44.0.tgz PackageFileSize: 1.59 MiB