Package: iSEE Version: 2.4.0 Command: C:\Users\biocbuild\bbs-3.13-bioc\R\bin\R.exe CMD check --force-multiarch --install=check:iSEE.install-out.txt --library=C:\Users\biocbuild\bbs-3.13-bioc\R\library --no-vignettes --timings iSEE_2.4.0.tar.gz StartedAt: 2021-10-15 00:53:38 -0400 (Fri, 15 Oct 2021) EndedAt: 2021-10-15 01:04:19 -0400 (Fri, 15 Oct 2021) EllapsedTime: 640.5 seconds RetCode: 0 Status: OK CheckDir: iSEE.Rcheck Warnings: 0